Workbook
Name \0: '[1]PNT-QUOT-#3'!#REF!
Name \d: '[2]??-BLDG'!#REF!
Name \e: '[2]??-BLDG'!#REF!
Name \f: '[2]??-BLDG'!#REF!
Name \g: '[2]??-BLDG'!#REF!
Name \h: '[2]??-BLDG'!#REF!
Name \i: '[2]??-BLDG'!#REF!
Name \j: '[2]??-BLDG'!#REF!
Name \k: '[2]??-BLDG'!#REF!
Name \l: '[2]??-BLDG'!#REF!
Name \m: '[2]??-BLDG'!#REF!
Name \n: '[2]??-BLDG'!#REF!
Name \o: '[2]??-BLDG'!#REF!
Name \z: '[1]COAT&WRAP-QIOT-#3'!#REF!
Name _1: #N/A
Name _1000A01: #N/A
Name _2: #N/A
Name _A65700: '[3]MTO REV.2(ARMOR)'!#REF!
Name _A65800: '[3]MTO REV.2(ARMOR)'!#REF!
Name _A66000: '[3]MTO REV.2(ARMOR)'!#REF!
Name _A67000: '[3]MTO REV.2(ARMOR)'!#REF!
Name _A68000: '[3]MTO REV.2(ARMOR)'!#REF!
Name _A70000: '[3]MTO REV.2(ARMOR)'!#REF!
Name _A75000: '[3]MTO REV.2(ARMOR)'!#REF!
Name _A85000: '[3]MTO REV.2(ARMOR)'!#REF!
Name _CON1: #REF!
Name _CON2: #REF!
Name _NET2: #REF!
Name A: '[1]PNT-QUOT-#3'!#REF!
Name A01_: #N/A
Name A01AC: #N/A
Name A01CAT: #N/A
Name A01CODE: #N/A
Name A01DATA: #N/A
Name A01MI: #N/A
Name A01TO: #N/A
Name A60000.: #REF!
Name AA: #REF!
Name AAA: '[4]MTL$-INTER'!#REF!
Name All_Item: #REF!
Name ALPIN: #N/A
Name ALPJYOU: #N/A
Name ALPTOI: #N/A
Name B: '[1]PNT-QUOT-#3'!#REF!
Name BB: #REF!
Name BOQ: #REF!
Name BVCISUMMARY: #REF!
Name CABLE2: '[5]MTO REV.0'!$A$1:$Q$570
Name Category_All: #REF!
Name CATIN: #N/A
Name CATJYOU: #N/A
Name CATREC: #N/A
Name CATSYU: #N/A
Name COAT: '[1]PNT-QUOT-#3'!#REF!
Name COMMON: #REF!
Name CON_EQP_COS: #REF!
Name CON_EQP_COST: #REF!
Name CONST_EQ: #REF!
Name COVER: #REF!
Name CRITINST: #REF!

Sheet Hướng dẫn
A1: Quy trình nhập điểm Tổng kết Môn học, Mô đunTCN
A2: STT | B2: Bảng tính thao tác | C2: Công việc thực hiện
A3: 1 | B3: Vào bảng tính DANH SÁCH LỚP | C3: Sort theo tên lớp, sau đó chọn toàn bộ MSHS (mã số học sinh) của lớp, nhấn phím Ctrl-C để chép mã số HS.
A4: 2 | B4: Đối với SV theo danh sách lớp của Phòng TTGD-CTSV: Vào bảng tính LT va TH TCCN | C4: Nhập tên môn học, mô đun; số tiết; số cột kiểm tra tối thiểu, tên của Giảng viên (các ô có nền tương ứng).
C6: Ghi chú: Nhập đúng tên môn học, số tiết theo lớp trong bảng tính TÊN MÔN HỌC
C7: Nhập các điểm thành phần theo từng cột điểm tương ứng
C8: Lưu ý 2: Khi muốn in bảng điểm học phần, nên bỏ phần màu nền.
C9: Lưu ý 3: Đối với HS bảo lưu chỉ cần nhập điểm bảo lưu vào ô Điểm bảo lưu của từng bảng điểm học phần. Các cột còn lại để trống.
A10: 3 | B10: Đối với HS học lại: Vào bảng tính LT va TH TCCN HL | C10: CHÉP TỪ DANH SÁCH HỌC LẠI
A11: 4 | B11: Để thống nhất trong việc quản lý điểm số của HS trong toàn trường, sau khi hoàn thành bảng tính, xin Quý Thầy Cô lưu lại file theo định dạng: tenlop_tenmonhoc_HK1_NH15-16 và gởi bằng mail cho GVCN, Khoa và Phòng TS-Đào tạo-GTVL (phongdaotao@lttc.edu.vn)
B12: Nếu Quý Thầy Cô có vướng mắc gì, xin liên hệ trực tiếp với Phòng TS-Đào tạo-GTVL

Sheet TÊN MÔN HỌC 15TCN
A1: QUI ĐỊNH SỐ TIẾT VÀ SỐ CỘT ĐIỂM KIỂM TRA ĐỊNH KỲ (HỆ SỐ 2) TỐI THIỂU CỦA HỌC KỲ 1 / 2015 - 2016 Bậc đào tạo : Trung cấp Nghề - Khóa 2015 (9+4)
A2: TT | B2: LỚP | C2: TÊN MÔN HỌC, MÔ ĐUN | D2: TỔNG SỐ TIẾT | E2: SỐ TIẾT | G2: Số cột điểm KT TX tối thiểu | H2: Số cột điểm KT ĐK tối thiểu | I2: Hệ số môn học
E3: Lý thuyết | F3: Thực hành
A4: 1 | B4: 15TCN-KTD | C4: Toán 1 | D4: =E4+F4 -> 90 | E4: 90 | G4: 1 | H4: 3 | I4: =D4/15 -> 6
C5: Vật Lí 1 | D5: =E5+F5 -> 60 | E5: 60 | G5: 1 | H5: 2 | I5: =D5/15 -> 4
C6: Hóa Học 1 | D6: =E6+F6 -> 60 | E6: 60 | G6: 1 | H6: 2 | I6: =D6/15 -> 4
C7: Ngữ Văn 1 | D7: =E7+F7 -> 60 | E7: 60 | G7: 1 | H7: 2 | I7: =D7/15 -> 4
C8: Giáo dục thể chất 1 | D8: =E8+F8 -> 30 | E8: 30 | G8: 1 | H8: 2 | I8: 2
C9: Anh văn 1 | D9: =E9+F9 -> 60 | E9: 60 | G9: 1 | H9: 2 | I9: =D9/15 -> 4
C10: Lý thuyết kế toán | D10: =E10+F10 -> 45 | E10: 45 | G10: 1 | H10: 2 | I10: =D10/15 -> 3
C11: Quản trị học | D11: =E11+F11 -> 45 | E11: 45 | G11: 1 | H11: 2 | I11: =D11/15 -> 3
C12: Tin học | D12: =E12+F12 -> 30 | E12: 30 | G12: 1 | H12: 2 | I12: =D12/15 -> 2
A13: 2 | B13: 15TCN-Đ | C13: Toán 1 | D13: =E13+F13 -> 90 | E13: 90 | G13: 1 | H13: 3 | I13: =D13/15 -> 6
C14: Vật Lí 1 | D14: =E14+F14 -> 60 | E14: 60 | G14: 1 | H14: 2 | I14: =D14/15 -> 4
C15: Hóa Học 1 | D15: =E15+F15 -> 60 | E15: 60 | G15: 1 | H15: 2 | I15: =D15/15 -> 4
C16: Ngữ Văn 1 | D16: =E16+F16 -> 60 | E16: 60 | G16: 1 | H16: 2 | I16: =D16/15 -> 4
C17: Giáo dục thể chất 1 | D17: =E17+F17 -> 30 | E17: 30 | G17: 1 | H17: 2 | I17: 2
C18: Anh văn 1 | D18: =E18+F18 -> 60 | E18: 60 | G18: 1 | H18: 2 | I18: =D18/15 -> 4
C19: An toàn điện | D19: =E19+F19 -> 30 | E19: 30 | G19: 1 | H19: 2 | I19: =D19/15 -> 2
C20: Mạch điện | D20: =E20+F20 -> 45 | E20: 45 | G20: 1 | H20: 2 | I20: =D20/15 -> 3
C21: Vật liệu điện | D21: =E21+F21 -> 30 | E21: 30 | G21: 1 | H21: 2 | I21: =D21/15 -> 2
C22: Vẽ kỹ thuật | D22: =E22+F22 -> 30 | E22: 30 | G22: 1 | H22: 2 | I22: =D22/15 -> 2
D23: =E23+F23 -> 0 | G23: 1
D24: =E24+F24 -> 0 | G24: 1
A25: 3 | B25: 15TCN-ĐT | C25: Toán 1 | D25: =E25+F25 -> 90 | E25: 90 | G25: 1 | H25: 3 | I25: =D25/15 -> 6
C26: Vật Lí 1 | D26: =E26+F26 -> 60 | E26: 60 | G26: 1 | H26: 2 | I26: =D26/15 -> 4
C27: Hóa Học 1 | D27: =E27+F27 -> 60 | E27: 60 | G27: 1 | H27: 2 | I27: =D27/15 -> 4
C28: Ngữ Văn 1 | D28: =E28+F28 -> 60 | E28: 60 | G28: 1 | H28: 2 | I28: =D28/15 -> 4
C29: Giáo dục thể chất 1 | D29: =E29+F29 -> 30 | E29: 30 | G29: 1 | H29: 2 | I29: 2
C30: Anh văn 1 | D30: =E30+F30 -> 60 | E30: 60 | G30: 1 | H30: 2 | I30: =D30/15 -> 4
C31: An toàn lao động | D31: =E31+F31 -> 30 | E31: 30 | G31: 1 | H31: 2 | I31: =D31/15 -> 2
C32: Điện kỹ thuật | D32: =E32+F32 -> 45 | E32: 45 | G32: 1 | H32: 2 | I32: =D32/15 -> 3
C33: Linh kiện điện tử | D33: =E33+F33 -> 45 | E33: 45 | G33: 1 | H33: 2 | I33: =D33/15 -> 3
D34: =E34+F34 -> 0 | G34: 1
A35: 4 | B35: 15TCN-LDL | C35: Toán 1 | D35: =E35+F35 -> 90 | E35: 90 | G35: 1 | H35: 3 | I35: =D35/15 -> 6
C36: Vật Lí 1 | D36: =E36+F36 -> 60 | E36: 60 | G36: 1 | H36: 2 | I36: =D36/15 -> 4
C37: Hóa Học 1 | D37: =E37+F37 -> 60 | E37: 60 | G37: 1 | H37: 2 | I37: =D37/15 -> 4
C38: Ngữ Văn 1 | D38: =E38+F38 -> 60 | E38: 60 | G38: 1 | H38: 2 | I38: =D38/15 -> 4
C39: Giáo dục thể chất 1 | D39: =E39+F39 -> 30 | E39: 30 | G39: 1 | H39: 2 | I39: 2
C40: Anh văn 1 | D40: =E40+F40 -> 60 | E40: 60 | G40: 1 | H40: 2 | I40: =D40/15 -> 4
...

Sheet DANH SÁCH LỚP
A1: STT | B1: MSHS | C1: Họ | D1: Tên | E1: Ngày sinh | F1: Lớp | G1: Phái | H1: Hệ | I1: DANH SÁCH DOWN TỪ PM NGÀY 09/01/2016 | J1: =MAX(A:A) -> 64
A2: 1 | B2: 15002001 | C2: Nguyễn Ngọc Nguyên | D2: Ân | E2: 15/02/2000 | F2: 15TCN-CKL | G2: Nam
A3: 2 | B3: 15000452 | C3: Nguyễn Hoàng Hải | D3: Anh | E3: 21/11/1999 | F3: 15TCN-CKL | G3: Nam
A4: 3 | B4: 15002521 | C4: Nguyễn Thái | D4: Bảo | E4: 03/11/2000 | F4: 15TCN-CKL | G4: Nam
A5: 4 | B5: 15003407 | C5: Kiều Công | D5: Danh | E5: 24/03/1998 | F5: 15TCN-CKL | G5: Nam
A6: 5 | B6: 15001081 | C6: Thân Hoàng | D6: Danh | E6: 10/11/1999 | F6: 15TCN-CKL | G6: Nam
A7: 6 | B7: 15000671 | C7: Bùi Xuân | D7: Đạt | E7: 03/07/2000 | F7: 15TCN-CKL | G7: Nam
A8: 7 | B8: 15001308 | C8: Mai Thành | D8: Đạt | E8: 24/7/2000 | F8: 15TCN-CKL | G8: Nam
A9: 8 | B9: 15000267 | C9: Nguyễn Khả | D9: Di | E9: 30/06/1999 | F9: 15TCN-CKL | G9: Nam
A10: 9 | B10: 15000370 | C10: Nguyễn Văn | D10: Đô | E10: 04/01/1998 | F10: 15TCN-CKL | G10: Nam
A11: 10 | B11: 15003472 | C11: Ngô Hải | D11: Duy | E11: 22/01/1998 | F11: 15TCN-CKL | G11: Nam
A12: 11 | B12: 15003416 | C12: Tống Thanh | D12: Hải | E12: 16/07/2000 | F12: 15TCN-CKL | G12: Nam
A13: 12 | B13: 15000602 | C13: Vũ Đức | D13: Hậu | E13: 08/04/1999 | F13: 15TCN-CKL | G13: Nam
... A510: 63 | B510: 15003408 | C510: Mai Như Y | D510: Ý | E510: 29/03/2000 | F510: 15TCN-QTM2 | G510: Nam

Sheet LT TCN
A1: UBND THÀNH PHỐ HỒ CHÍ MINH | E1: CỘNG HÒA XÃ HỘI CHỦ NGHĨA VIỆT NAM
A2: TRƯỜNG CAO ĐẲNG KỸ THUẬT LÝ TỰ TRỌNG TP. HỒ CHÍ MINH | E2: Độc lập – Tự do – Hạnh phúc
A3: ‾‾‾‾‾‾‾‾‾‾‾‾‾‾‾‾‾‾‾‾‾‾‾‾‾‾‾‾‾‾‾‾‾‾‾‾‾‾‾‾
A4: BẢNG ĐIỂM MÔN HỌC LÝ THUYẾT
A5: =IF(OR(B12="",C6="",I6="",H119=""),"Số liệu chỉ hiển thị khi thông tin Tên MH, số tiết, số cột KT tối thiểu, Tên GV đã được điền đầy đủ","")
B6: Môn học: | C6: Vật lí 1 | G6: Số tiết: | I6: 60 | J6: Lớp: | K6: =IF(ISNA(VLOOKUP($B12,'DANH SÁCH LỚP'!$B$2:$F$966,5,FALSE))=TRUE,"",VLOOKUP($B12,'DANH SÁCH LỚP'!$B$2:$F$966,5,FALSE)) -> 15TCN-QTM2 | M6: Số cột kiểm tra tối thiểu | R6: 2
C7: HỌC KỲ: | D7: I | E7: NĂM HỌC: 2015 - 2016
A8: TT | B8: MSHS | C8: Họ tên học sinh | E8: Điểm kiểm tra định kỳ (Hệ số 2) | K8: Điểm TB | L8: Số tiết vắng | M8: Xét điều kiện dự thi | N8: Điểm kiểm tra KTMH (Hệ số 3) | O8: Điểm tổng kết MH | P8: XL lần I | Q8: Đánh Giá MH
A12: =IF(B12="","",SUBTOTAL(3,$B$12:B12)) -> 1 | B12: 15000310 | C12: =IF(B12="","",IF(ISNA(VLOOKUP($B12,'DANH SÁCH LỚP'!$B$2:$D$966,2,FALSE))=TRUE,"",VLOOKUP($B12,'DANH SÁCH LỚP'!$B$2:$D$966,2,FALSE))) -> Lê Thanh | D12: =IF(C12="","",IF(ISNA(VLOOKUP($B12,'DANH SÁCH LỚP'!$B$2:$D$966,3,FALSE))=TRUE,"",VLOOKUP($B12,'DANH SÁCH LỚP'!$B$2:$D$966,3,FALSE))) -> An | E12: 5 | F12: 8 | K12: =IF(OR(B12="",$C$6="",$I$6="",$H$119=""),"",IF((COUNT(E12:J12))=0,0,ROUND(SUM(E12:J12)/COUNT(E12:J12),1))) -> 6.5 | L12: 9 | M12: =IF(OR(B12="",$C$6="",$I$6="",$H$119=""),"",IF(OR(K12<5,L12/($I$6)>0.2,COUNT(E12:J12)<$M$7),"Cấm thi","")) | N12: 1 | O12: =IF(OR(B12="",$C$6="",$I$6="",$H$119=""),"",ROUND((SUM(E12:J12)*2+N12*3)/(2*COUNT(E12:J12)+3),1)) -> 4.1 | P12: =IF(B12="","",IF(O12="","KXL",IF(O12<4,"Kém",IF(O12<5,"Yếu",IF(O12<6,"TB",IF(O12<7,"TBK",IF(O12<8,"Khá",IF(O12<9,"Giỏi","XS")))))))) -> Yếu | Q12: =IF(OR(B12="",$C$6="",$I$6="",$H$119=""),"",IF(AND(N12>=3,O12>=5),"ĐẠT","KĐẠT")) -> KĐẠT
A13: =IF(B13="","",SUBTOTAL(3,$B$12:B13)) -> 2 | B13: 15000571 | C13: =IF(B13="","",IF(ISNA(VLOOKUP($B13,'DANH SÁCH LỚP'!$B$2:$D$966,2,FALSE))=TRUE,"",VLOOKUP($B13,'DANH SÁCH LỚP'!$B$2:$D$966,2,FALSE))) -> Mai Tuấn | D13: =IF(C13="","",IF(ISNA(VLOOKUP($B13,'DANH SÁCH LỚP'!$B$2:$D$966,3,FALSE))=TRUE,"",VLOOKUP($B13,'DANH SÁCH LỚP'!$B$2:$D$966,3,FALSE))) -> Anh | E13: 9 | F13: 8 | K13: =IF(OR(B13="",$C$6="",$I$6="",$H$119=""),"",IF((COUNT(E13:J13))=0,0,ROUND(SUM(E13:J13)/COUNT(E13:J13),1))) -> 8.5 | L13: 0 | M13: =IF(OR(B13="",$C$6="",$I$6="",$H$119=""),"",IF(OR(K13<5,L13/($I$6)>0.2,COUNT(E13:J13)<$M$7),"Cấm thi","")) | N13: 3 | O13: =IF(OR(B13="",$C$6="",$I$6="",$H$119=""),"",ROUND((SUM(E13:J13)*2+N13*3)/(2*COUNT(E13:J13)+3),1)) -> 6.1 | P13: =IF(B13="","",IF(O13="","KXL",IF(O13<4,"Kém",IF(O13<5,"Yếu",IF(O13<6,"TB",IF(O13<7,"TBK",IF(O13<8,"Khá",IF(O13<9,"Giỏi","XS")))))))) -> TBK | Q13: =IF(OR(B13="",$C$6="",$I$6="",$H$119=""),"",IF(AND(N13>=3,O13>=5),"ĐẠT","KĐẠT")) -> ĐẠT
A14: =IF(B14="","",SUBTOTAL(3,$B$12:B14)) -> 3 | B14: 15000319 | C14: =IF(B14="","",IF(ISNA(VLOOKUP($B14,'DANH SÁCH LỚP'!$B$2:$D$966,2,FALSE))=TRUE,"",VLOOKUP($B14,'DANH SÁCH LỚP'!$B$2:$D$966,2,FALSE))) -> Hồ Đăng Hữu | D14: =IF(C14="","",IF(ISNA(VLOOKUP($B14,'DANH SÁCH LỚP'!$B$2:$D$966,3,FALSE))=TRUE,"",VLOOKUP($B14,'DANH SÁCH LỚP'!$B$2:$D$966,3,FALSE))) -> Bảo | E14: 5 | F14: 5 | K14: =IF(OR(B14="",$C$6="",$I$6="",$H$119=""),"",IF((COUNT(E14:J14))=0,0,ROUND(SUM(E14:J14)/COUNT(E14:J14),1))) -> 5 | L14: 20 | M14: =IF(OR(B14="",$C$6="",$I$6="",$H$119=""),"",IF(OR(K14<5,L14/($I$6)>0.2,COUNT(E14:J14)<$M$7),"Cấm thi","")) -> Cấm thi | N14: 0 | O14: =IF(OR(B14="",$C$6="",$I$6="",$H$119=""),"",ROUND((SUM(E14:J14)*2+N14*3)/(2*COUNT(E14:J14)+3),1)) -> 2.9 | P14: =IF(B14="","",IF(O14="","KXL",IF(O14<4,"Kém",IF(O14<5,"Yếu",IF(O14<6,"TB",IF(O14<7,"TBK",IF(O14<8,"Khá",IF(O14<9,"Giỏi","XS")))))))) -> Kém | Q14: =IF(OR(B14="",$C$6="",$I$6="",$H$119=""),"",IF(AND(N14>=3,O14>=5),"ĐẠT","KĐẠT")) -> KĐẠT
A15: =IF(B15="","",SUBTOTAL(3,$B$12:B15)) -> 4 | B15: 15002465 | C15: =IF(B15="","",IF(ISNA(VLOOKUP($B15,'DANH SÁCH LỚP'!$B$2:$D$966,2,FALSE))=TRUE,"",VLOOKUP($B15,'DANH SÁCH LỚP'!$B$2:$D$966,2,FALSE))) -> Hồ Quốc | D15: =IF(C15="","",IF(ISNA(VLOOKUP($B15,'DANH SÁCH LỚP'!$B$2:$D$966,3,FALSE))=TRUE,"",VLOOKUP($B15,'DANH SÁCH LỚP'!$B$2:$D$966,3,FALSE))) -> Bảo | E15: 8 | F15: 0 | K15: =IF(OR(B15="",$C$6="",$I$6="",$H$119=""),"",IF((COUNT(E15:J15))=0,0,ROUND(SUM(E15:J15)/COUNT(E15:J15),1))) -> 4 | L15: 30 | M15: =IF(OR(B15="",$C$6="",$I$6="",$H$119=""),"",IF(OR(K15<5,L15/($I$6)>0.2,COUNT(E15:J15)<$M$7),"Cấm thi","")) -> Cấm thi | N15: 0 | O15: =IF(OR(B15="",$C$6="",$I$6="",$H$119=""),"",ROUND((SUM(E15:J15)*2+N15*3)/(2*COUNT(E15:J15)+3),1)) -> 2.3 | P15: =IF(B15="","",IF(O15="","KXL",IF(O15<4,"Kém",IF(O15<5,"Yếu",IF(O15<6,"TB",IF(O15<7,"TBK",IF(O15<8,"Khá",IF(O15<9,"Giỏi","XS")))))))) -> Kém | Q15: =IF(OR(B15="",$C$6="",$I$6="",$H$119=""),"",IF(AND(N15>=3,O15>=5),"ĐẠT","KĐẠT")) -> KĐẠT
A16: =IF(B16="","",SUBTOTAL(3,$B$12:B16)) -> 5 | B16: 15000333 | C16: =IF(B16="","",IF(ISNA(VLOOKUP($B16,'DANH SÁCH LỚP'!$B$2:$D$966,2,FALSE))=TRUE,"",VLOOKUP($B16,'DANH SÁCH LỚP'!$B$2:$D$966,2,FALSE))) -> Đàm Vinh | D16: =IF(C16="","",IF(ISNA(VLOOKUP($B16,'DANH SÁCH LỚP'!$B$2:$D$966,3,FALSE))=TRUE,"",VLOOKUP($B16,'DANH SÁCH LỚP'!$B$2:$D$966,3,FALSE))) -> Cường | E16: 6 | F16: 9 | K16: =IF(OR(B16="",$C$6="",$I$6="",$H$119=""),"",IF((COUNT(E16:J16))=0,0,ROUND(SUM(E16:J16)/COUNT(E16:J16),1))) -> 7.5 | L16: 12 | M16: =IF(OR(B16="",$C$6="",$I$6="",$H$119=""),"",IF(OR(K16<5,L16/($I$6)>0.2,COUNT(E16:J16)<$M$7),"Cấm thi","")) | N16: 1 | O16: =IF(OR(B16="",$C$6="",$I$6="",$H$119=""),"",ROUND((SUM(E16:J16)*2+N16*3)/(2*COUNT(E16:J16)+3),1)) -> 4.7 | P16: =IF(B16="","",IF(O16="","KXL",IF(O16<4,"Kém",IF(O16<5,"Yếu",IF(O16<6,"TB",IF(O16<7,"TBK",IF(O16<8,"Khá",IF(O16<9,"Giỏi","XS")))))))) -> Yếu | Q16: =IF(OR(B16="",$C$6="",$I$6="",$H$119=""),"",IF(AND(N16>=3,O16>=5),"ĐẠT","KĐẠT")) -> KĐẠT
A17: =IF(B17="","",SUBTOTAL(3,$B$12:B17)) -> 6 | B17: 15002414 | C17: =IF(B17="","",IF(ISNA(VLOOKUP($B17,'DANH SÁCH LỚP'!$B$2:$D$966,2,FALSE))=TRUE,"",VLOOKUP($B17,'DANH SÁCH LỚP'!$B$2:$D$966,2,FALSE))) -> Huỳnh Quốc | D17: =IF(C17="","",IF(ISNA(VLOOKUP($B17,'DANH SÁCH LỚP'!$B$2:$D$966,3,FALSE))=TRUE,"",VLOOKUP($B17,'DANH SÁCH LỚP'!$B$2:$D$966,3,FALSE))) -> Cường | E17: 5 | F17: 8 | K17: =IF(OR(B17="",$C$6="",$I$6="",$H$119=""),"",IF((COUNT(E17:J17))=0,0,ROUND(SUM(E17:J17)/COUNT(E17:J17),1))) -> 6.5 | L17: 8 | M17: =IF(OR(B17="",$C$6="",$I$6="",$H$119=""),"",IF(OR(K17<5,L17/($I$6)>0.2,COUNT(E17:J17)<$M$7),"Cấm thi","")) | N17: 1 | O17: =IF(OR(B17="",$C$6="",$I$6="",$H$119=""),"",ROUND((SUM(E17:J17)*2+N17*3)/(2*COUNT(E17:J17)+3),1)) -> 4.1 | P17: =IF(B17="","",IF(O17="","KXL",IF(O17<4,"Kém",IF(O17<5,"Yếu",IF(O17<6,"TB",IF(O17<7,"TBK",IF(O17<8,"Khá",IF(O17<9,"Giỏi","XS")))))))) -> Yếu | Q17: =IF(OR(B17="",$C$6="",$I$6="",$H$119=""),"",IF(AND(N17>=3,O17>=5),"ĐẠT","KĐẠT")) -> KĐẠT
A18: =IF(B18="","",SUBTOTAL(3,$B$12:B18)) -> 7 | B18: 15000512 | C18: =IF(B18="","",IF(ISNA(VLOOKUP($B18,'DANH SÁCH LỚP'!$B$2:$D$966,2,FALSE))=TRUE,"",VLOOKUP($B18,'DANH SÁCH LỚP'!$B$2:$D$966,2,FALSE))) -> Mai Đỗ | D18: =IF(C18="","",IF(ISNA(VLOOKUP($B18,'DANH SÁCH LỚP'!$B$2:$D$966,3,FALSE))=TRUE,"",VLOOKUP($B18,'DANH SÁCH LỚP'!$B$2:$D$966,3,FALSE))) -> Đại | E18: 9 | F18: 5 | K18: =IF(OR(B18="",$C$6="",$I$6="",$H$119=""),"",IF((COUNT(E18:J18))=0,0,ROUND(SUM(E18:J18)/COUNT(E18:J18),1))) -> 7 | L18: 8 | M18: =IF(OR(B18="",$C$6="",$I$6="",$H$119=""),"",IF(OR(K18<5,L18/($I$6)>0.2,COUNT(E18:J18)<$M$7),"Cấm thi","")) | N18: 0 | O18: =IF(OR(B18="",$C$6="",$I$6="",$H$119=""),"",ROUND((SUM(E18:J18)*2+N18*3)/(2*COUNT(E18:J18)+3),1)) -> 4 | P18: =IF(B18="","",IF(O18="","KXL",IF(O18<4,"Kém",IF(O18<5,"Yếu",IF(O18<6,"TB",IF(O18<7,"TBK",IF(O18<8,"Khá",IF(O18<9,"Giỏi","XS")))))))) -> Yếu | Q18: =IF(OR(B18="",$C$6="",$I$6="",$H$119=""),"",IF(AND(N18>=3,O18>=5),"ĐẠT","KĐẠT")) -> KĐẠT
A19: =IF(B19="","",SUBTOTAL(3,$B$12:B19)) -> 8 | B19: 15003069 | C19: =IF(B19="","",IF(ISNA(VLOOKUP($B19,'DANH SÁCH LỚP'!$B$2:$D$966,2,FALSE))=TRUE,"",VLOOKUP($B19,'DANH SÁCH LỚP'!$B$2:$D$966,2,FALSE))) -> Bùi Quốc | D19: =IF(C19="","",IF(ISNA(VLOOKUP($B19,'DANH SÁCH LỚP'!$B$2:$D$966,3,FALSE))=TRUE,"",VLOOKUP($B19,'DANH SÁCH LỚP'!$B$2:$D$966,3,FALSE))) -> Đăng | E19: 0 | F19: 0 | K19: =IF(OR(B19="",$C$6="",$I$6="",$H$119=""),"",IF((COUNT(E19:J19))=0,0,ROUND(SUM(E19:J19)/COUNT(E19:J19),1))) -> 0 | L19: 43 | M19: =IF(OR(B19="",$C$6="",$I$6="",$H$119=""),"",IF(OR(K19<5,L19/($I$6)>0.2,COUNT(E19:J19)<$M$7),"Cấm thi","")) -> Cấm thi | N19: 0 | O19: =IF(OR(B19="",$C$6="",$I$6="",$H$119=""),"",ROUND((SUM(E19:J19)*2+N19*3)/(2*COUNT(E19:J19)+3),1)) -> 0 | P19: =IF(B19="","",IF(O19="","KXL",IF(O19<4,"Kém",IF(O19<5,"Yếu",IF(O19<6,"TB",IF(O19<7,"TBK",IF(O19<8,"Khá",IF(O19<9,"Giỏi","XS")))))))) -> Kém | Q19: =IF(OR(B19="",$C$6="",$I$6="",$H$119=""),"",IF(AND(N19>=3,O19>=5),"ĐẠT","KĐẠT")) -> KĐẠT
A20: =IF(B20="","",SUBTOTAL(3,$B$12:B20)) -> 9 | B20: 15001912 | C20: =IF(B20="","",IF(ISNA(VLOOKUP($B20,'DANH SÁCH LỚP'!$B$2:$D$966,2,FALSE))=TRUE,"",VLOOKUP($B20,'DANH SÁCH LỚP'!$B$2:$D$966,2,FALSE))) -> Vũ Hải | D20: =IF(C20="","",IF(ISNA(VLOOKUP($B20,'DANH SÁCH LỚP'!$B$2:$D$966,3,FALSE))=TRUE,"",VLOOKUP($B20,'DANH SÁCH LỚP'!$B$2:$D$966,3,FALSE))) -> Đăng | E20: 7 | F20: 8 | K20: =IF(OR(B20="",$C$6="",$I$6="",$H$119=""),"",IF((COUNT(E20:J20))=0,0,ROUND(SUM(E20:J20)/COUNT(E20:J20),1))) -> 7.5 | L20: 2 | M20: =IF(OR(B20="",$C$6="",$I$6="",$H$119=""),"",IF(OR(K20<5,L20/($I$6)>0.2,COUNT(E20:J20)<$M$7),"Cấm thi","")) | N20: 2 | O20: =IF(OR(B20="",$C$6="",$I$6="",$H$119=""),"",ROUND((SUM(E20:J20)*2+N20*3)/(2*COUNT(E20:J20)+3),1)) -> 5.1 | P20: =IF(B20="","",IF(O20="","KXL",IF(O20<4,"Kém",IF(O20<5,"Yếu",IF(O20<6,"TB",IF(O20<7,"TBK",IF(O20<8,"Khá",IF(O20<9,"Giỏi","XS")))))))) -> TB | Q20: =IF(OR(B20="",$C$6="",$I$6="",$H$119=""),"",IF(AND(N20>=3,O20>=5),"ĐẠT","KĐẠT")) -> KĐẠT
A21: =IF(B21="","",SUBTOTAL(3,$B$12:B21)) -> 10 | B21: 15001376 | C21: =IF(B21="","",IF(ISNA(VLOOKUP($B21,'DANH SÁCH LỚP'!$B$2:$D$966,2,FALSE))=TRUE,"",VLOOKUP($B21,'DANH SÁCH LỚP'!$B$2:$D$966,2,FALSE))) -> Nguyễn Thành | D21: =IF(C21="","",IF(ISNA(VLOOKUP($B21,'DANH SÁCH LỚP'!$B$2:$D$966,3,FALSE))=TRUE,"",VLOOKUP($B21,'DANH SÁCH LỚP'!$B$2:$D$966,3,FALSE))) -> Đạt | E21: 10 | F21: 8 | K21: =IF(OR(B21="",$C$6="",$I$6="",$H$119=""),"",IF((COUNT(E21:J21))=0,0,ROUND(SUM(E21:J21)/COUNT(E21:J21),1))) -> 9 | L21: 4 | M21: =IF(OR(B21="",$C$6="",$I$6="",$H$119=""),"",IF(OR(K21<5,L21/($I$6)>0.2,COUNT(E21:J21)<$M$7),"Cấm thi","")) | N21: 1.3 | O21: =IF(OR(B21="",$C$6="",$I$6="",$H$119=""),"",ROUND((SUM(E21:J21)*2+N21*3)/(2*COUNT(E21:J21)+3),1)) -> 5.7 | P21: =IF(B21="","",IF(O21="","KXL",IF(O21<4,"Kém",IF(O21<5,"Yếu",IF(O21<6,"TB",IF(O21<7,"TBK",IF(O21<8,"Khá",IF(O21<9,"Giỏi","XS")))))))) -> TB | Q21: =IF(OR(B21="",$C$6="",$I$6="",$H$119=""),"",IF(AND(N21>=3,O21>=5),"ĐẠT","KĐẠT")) -> KĐẠT
A22: =IF(B22="","",SUBTOTAL(3,$B$12:B22)) -> 11 | B22: 15001176 | C22: =IF(B22="","",IF(ISNA(VLOOKUP($B22,'DANH SÁCH LỚP'!$B$2:$D$966,2,FALSE))=TRUE,"",VLOOKUP($B22,'DANH SÁCH LỚP'!$B$2:$D$966,2,FALSE))) -> Lê Long Minh | D22: =IF(C22="","",IF(ISNA(VLOOKUP($B22,'DANH SÁCH LỚP'!$B$2:$D$966,3,FALSE))=TRUE,"",VLOOKUP($B22,'DANH SÁCH LỚP'!$B$2:$D$966,3,FALSE))) -> Định | E22: 9 | F22: 7 | K22: =IF(OR(B22="",$C$6="",$I$6="",$H$119=""),"",IF((COUNT(E22:J22))=0,0,ROUND(SUM(E22:J22)/COUNT(E22:J22),1))) -> 8 | L22: 2 | M22: =IF(OR(B22="",$C$6="",$I$6="",$H$119=""),"",IF(OR(K22<5,L22/($I$6)>0.2,COUNT(E22:J22)<$M$7),"Cấm thi","")) | N22: 3.5 | O22: =IF(OR(B22="",$C$6="",$I$6="",$H$119=""),"",ROUND((SUM(E22:J22)*2+N22*3)/(2*COUNT(E22:J22)+3),1)) -> 6.1 | P22: =IF(B22="","",IF(O22="","KXL",IF(O22<4,"Kém",IF(O22<5,"Yếu",IF(O22<6,"TB",IF(O22<7,"TBK",IF(O22<8,"Khá",IF(O22<9,"Giỏi","XS")))))))) -> TBK | Q22: =IF(OR(B22="",$C$6="",$I$6="",$H$119=""),"",IF(AND(N22>=3,O22>=5),"ĐẠT","KĐẠT")) -> ĐẠT
A23: =IF(B23="","",SUBTOTAL(3,$B$12:B23)) -> 12 | B23: 15000410 | C23: =IF(B23="","",IF(ISNA(VLOOKUP($B23,'DANH SÁCH LỚP'!$B$2:$D$966,2,FALSE))=TRUE,"",VLOOKUP($B23,'DANH SÁCH LỚP'!$B$2:$D$966,2,FALSE))) -> Quang Minh | D23: =IF(C23="","",IF(ISNA(VLOOKUP($B23,'DANH SÁCH LỚP'!$B$2:$D$966,3,FALSE))=TRUE,"",VLOOKUP($B23,'DANH SÁCH LỚP'!$B$2:$D$966,3,FALSE))) -> Đức | E23: 0 | F23: 0 | K23: =IF(OR(B23="",$C$6="",$I$6="",$H$119=""),"",IF((COUNT(E23:J23))=0,0,ROUND(SUM(E23:J23)/COUNT(E23:J23),1))) -> 0 | L23: 41 | M23: =IF(OR(B23="",$C$6="",$I$6="",$H$119=""),"",IF(OR(K23<5,L23/($I$6)>0.2,COUNT(E23:J23)<$M$7),"Cấm thi","")) -> Cấm thi | N23: 0 | O23: =IF(OR(B23="",$C$6="",$I$6="",$H$119=""),"",ROUND((SUM(E23:J23)*2+N23*3)/(2*COUNT(E23:J23)+3),1)) -> 0 | P23: =IF(B23="","",IF(O23="","KXL",IF(O23<4,"Kém",IF(O23<5,"Yếu",IF(O23<6,"TB",IF(O23<7,"TBK",IF(O23<8,"Khá",IF(O23<9,"Giỏi","XS")))))))) -> Kém | Q23: =IF(OR(B23="",$C$6="",$I$6="",$H$119=""),"",IF(AND(N23>=3,O23>=5),"ĐẠT","KĐẠT")) -> KĐẠT
... A74: =IF(B74="","",SUBTOTAL(3,$B$12:B74)) -> 63 | B74: 15003408 | C74: =IF(B74="","",IF(ISNA(VLOOKUP($B74,'DANH SÁCH LỚP'!$B$2:$D$966,2,FALSE))=TRUE,"",VLOOKUP($B74,'DANH SÁCH LỚP'!$B$2:$D$966,2,FALSE))) -> Mai Như Y | D74: =IF(C74="","",IF(ISNA(VLOOKUP($B74,'DANH SÁCH LỚP'!$B$2:$D$966,3,FALSE))=TRUE,"",VLOOKUP($B74,'DANH SÁCH LỚP'!$B$2:$D$966,3,FALSE))) -> Ý | E74: 7 | F74: 5 | K74: =IF(OR(B74="",$C$6="",$I$6="",$H$119=""),"",IF((COUNT(E74:J74))=0,0,ROUND(SUM(E74:J74)/COUNT(E74:J74),1))) -> 6 | L74: 1 | M74: =IF(OR(B74="",$C$6="",$I$6="",$H$119=""),"",IF(OR(K74<5,L74/($I$6)>0.2,COUNT(E74:J74)<$M$7),"Cấm thi","")) | N74: 0 | O74: =IF(OR(B74="",$C$6="",$I$6="",$H$119=""),"",ROUND((SUM(E74:J74)*2+N74*3)/(2*COUNT(E74:J74)+3),1)) -> 3.4 | P74: =IF(B74="","",IF(O74="","KXL",IF(O74<4,"Kém",IF(O74<5,"Yếu",IF(O74<6,"TB",IF(O74<7,"TBK",IF(O74<8,"Khá",IF(O74<9,"Giỏi","XS")))))))) -> Kém | Q74: =IF(OR(B74="",$C$6="",$I$6="",$H$119=""),"",IF(AND(N74>=3,O74>=5),"ĐẠT","KĐẠT")) -> KĐẠT
A75: =IF(B75="","",SUBTOTAL(3,$B$12:B75)) | C75: =IF(B75="","",IF(ISNA(VLOOKUP($B75,'DANH SÁCH LỚP'!$B$2:$D$966,2,FALSE))=TRUE,"",VLOOKUP($B75,'DANH SÁCH LỚP'!$B$2:$D$966,2,FALSE))) | D75: =IF(C75="","",IF(ISNA(VLOOKUP($B75,'DANH SÁCH LỚP'!$B$2:$D$966,3,FALSE))=TRUE,"",VLOOKUP($B75,'DANH SÁCH LỚP'!$B$2:$D$966,3,FALSE))) | K75: =IF(OR(B75="",$C$6="",$I$6="",$H$119=""),"",IF((COUNT(E75:J75))=0,0,ROUND(SUM(E75:J75)/COUNT(E75:J75),1))) | M75: =IF(OR(B75="",$C$6="",$I$6="",$H$119=""),"",IF(OR(K75<5,L75/($I$6)>0.2,COUNT(E75:J75)<$M$7),"Cấm thi","")) | O75: =IF(OR(B75="",$C$6="",$I$6="",$H$119=""),"",ROUND((SUM(E75:J75)*2+N75*3)/(2*COUNT(E75:J75)+3),1)) | P75: =IF(B75="","",IF(O75="","KXL",IF(O75<4,"Kém",IF(O75<5,"Yếu",IF(O75<6,"TB",IF(O75<7,"TBK",IF(O75<8,"Khá",IF(O75<9,"Giỏi","XS")))))))) | Q75: =IF(OR(B75="",$C$6="",$I$6="",$H$119=""),"",IF(AND(N75>=3,O75>=5),"ĐẠT","KĐẠT"))
A76: =IF(B76="","",SUBTOTAL(3,$B$12:B76)) | C76: =IF(B76="","",IF(ISNA(VLOOKUP($B76,'DANH SÁCH LỚP'!$B$2:$D$966,2,FALSE))=TRUE,"",VLOOKUP($B76,'DANH SÁCH LỚP'!$B$2:$D$966,2,FALSE))) | D76: =IF(C76="","",IF(ISNA(VLOOKUP($B76,'DANH SÁCH LỚP'!$B$2:$D$966,3,FALSE))=TRUE,"",VLOOKUP($B76,'DANH SÁCH LỚP'!$B$2:$D$966,3,FALSE))) | K76: =IF(OR(B76="",$C$6="",$I$6="",$H$119=""),"",IF((COUNT(E76:J76))=0,0,ROUND(SUM(E76:J76)/COUNT(E76:J76),1))) | M76: =IF(OR(B76="",$C$6="",$I$6="",$H$119=""),"",IF(OR(K76<5,L76/($I$6)>0.2,COUNT(E76:J76)<$M$7),"Cấm thi","")) | O76: =IF(OR(B76="",$C$6="",$I$6="",$H$119=""),"",ROUND((SUM(E76:J76)*2+N76*3)/(2*COUNT(E76:J76)+3),1)) | P76: =IF(B76="","",IF(O76="","KXL",IF(O76<4,"Kém",IF(O76<5,"Yếu",IF(O76<6,"TB",IF(O76<7,"TBK",IF(O76<8,"Khá",IF(O76<9,"Giỏi","XS")))))))) | Q76: =IF(OR(B76="",$C$6="",$I$6="",$H$119=""),"",IF(AND(N76>=3,O76>=5),"ĐẠT","KĐẠT"))
A77: =IF(B77="","",SUBTOTAL(3,$B$12:B77)) | C77: =IF(B77="","",IF(ISNA(VLOOKUP($B77,'DANH SÁCH LỚP'!$B$2:$D$966,2,FALSE))=TRUE,"",VLOOKUP($B77,'DANH SÁCH LỚP'!$B$2:$D$966,2,FALSE))) | D77: =IF(C77="","",IF(ISNA(VLOOKUP($B77,'DANH SÁCH LỚP'!$B$2:$D$966,3,FALSE))=TRUE,"",VLOOKUP($B77,'DANH SÁCH LỚP'!$B$2:$D$966,3,FALSE))) | K77: =IF(OR(B77="",$C$6="",$I$6="",$H$119=""),"",IF((COUNT(E77:J77))=0,0,ROUND(SUM(E77:J77)/COUNT(E77:J77),1))) | M77: =IF(OR(B77="",$C$6="",$I$6="",$H$119=""),"",IF(OR(K77<5,L77/($I$6)>0.2,COUNT(E77:J77)<$M$7),"Cấm thi","")) | O77: =IF(OR(B77="",$C$6="",$I$6="",$H$119=""),"",ROUND((SUM(E77:J77)*2+N77*3)/(2*COUNT(E77:J77)+3),1)) | P77: =IF(B77="","",IF(O77="","KXL",IF(O77<4,"Kém",IF(O77<5,"Yếu",IF(O77<6,"TB",IF(O77<7,"TBK",IF(O77<8,"Khá",IF(O77<9,"Giỏi","XS")))))))) | Q77: =IF(OR(B77="",$C$6="",$I$6="",$H$119=""),"",IF(AND(N77>=3,O77>=5),"ĐẠT","KĐẠT"))
A78: =IF(B78="","",SUBTOTAL(3,$B$12:B78)) | C78: =IF(B78="","",IF(ISNA(VLOOKUP($B78,'DANH SÁCH LỚP'!$B$2:$D$966,2,FALSE))=TRUE,"",VLOOKUP($B78,'DANH SÁCH LỚP'!$B$2:$D$966,2,FALSE))) | D78: =IF(C78="","",IF(ISNA(VLOOKUP($B78,'DANH SÁCH LỚP'!$B$2:$D$966,3,FALSE))=TRUE,"",VLOOKUP($B78,'DANH SÁCH LỚP'!$B$2:$D$966,3,FALSE))) | K78: =IF(OR(B78="",$C$6="",$I$6="",$H$119=""),"",IF((COUNT(E78:J78))=0,0,ROUND(SUM(E78:J78)/COUNT(E78:J78),1))) | M78: =IF(OR(B78="",$C$6="",$I$6="",$H$119=""),"",IF(OR(K78<5,L78/($I$6)>0.2,COUNT(E78:J78)<$M$7),"Cấm thi","")) | O78: =IF(OR(B78="",$C$6="",$I$6="",$H$119=""),"",ROUND((SUM(E78:J78)*2+N78*3)/(2*COUNT(E78:J78)+3),1)) | P78: =IF(B78="","",IF(O78="","KXL",IF(O78<4,"Kém",IF(O78<5,"Yếu",IF(O78<6,"TB",IF(O78<7,"TBK",IF(O78<8,"Khá",IF(O78<9,"Giỏi","XS")))))))) | Q78: =IF(OR(B78="",$C$6="",$I$6="",$H$119=""),"",IF(AND(N78>=3,O78>=5),"ĐẠT","KĐẠT"))
A79: =IF(B79="","",SUBTOTAL(3,$B$12:B79)) | C79: =IF(B79="","",IF(ISNA(VLOOKUP($B79,'DANH SÁCH LỚP'!$B$2:$D$966,2,FALSE))=TRUE,"",VLOOKUP($B79,'DANH SÁCH LỚP'!$B$2:$D$966,2,FALSE))) | D79: =IF(C79="","",IF(ISNA(VLOOKUP($B79,'DANH SÁCH LỚP'!$B$2:$D$966,3,FALSE))=TRUE,"",VLOOKUP($B79,'DANH SÁCH LỚP'!$B$2:$D$966,3,FALSE))) | K79: =IF(OR(B79="",$C$6="",$I$6="",$H$119=""),"",IF((COUNT(E79:J79))=0,0,ROUND(SUM(E79:J79)/COUNT(E79:J79),1))) | M79: =IF(OR(B79="",$C$6="",$I$6="",$H$119=""),"",IF(OR(K79<5,L79/($I$6)>0.2,COUNT(E79:J79)<$M$7),"Cấm thi","")) | O79: =IF(OR(B79="",$C$6="",$I$6="",$H$119=""),"",ROUND((SUM(E79:J79)*2+N79*3)/(2*COUNT(E79:J79)+3),1)) | P79: =IF(B79="","",IF(O79="","KXL",IF(O79<4,"Kém",IF(O79<5,"Yếu",IF(O79<6,"TB",IF(O79<7,"TBK",IF(O79<8,"Khá",IF(O79<9,"Giỏi","XS")))))))) | Q79: =IF(OR(B79="",$C$6="",$I$6="",$H$119=""),"",IF(AND(N79>=3,O79>=5),"ĐẠT","KĐẠT"))
A80: =IF(B80="","",SUBTOTAL(3,$B$12:B80)) | C80: =IF(B80="","",IF(ISNA(VLOOKUP($B80,'DANH SÁCH LỚP'!$B$2:$D$966,2,FALSE))=TRUE,"",VLOOKUP($B80,'DANH SÁCH LỚP'!$B$2:$D$966,2,FALSE))) | D80: =IF(C80="","",IF(ISNA(VLOOKUP($B80,'DANH SÁCH LỚP'!$B$2:$D$966,3,FALSE))=TRUE,"",VLOOKUP($B80,'DANH SÁCH LỚP'!$B$2:$D$966,3,FALSE))) | K80: =IF(OR(B80="",$C$6="",$I$6="",$H$119=""),"",IF((COUNT(E80:J80))=0,0,ROUND(SUM(E80:J80)/COUNT(E80:J80),1))) | M80: =IF(OR(B80="",$C$6="",$I$6="",$H$119=""),"",IF(OR(K80<5,L80/($I$6)>0.2,COUNT(E80:J80)<$M$7),"Cấm thi","")) | O80: =IF(OR(B80="",$C$6="",$I$6="",$H$119=""),"",ROUND((SUM(E80:J80)*2+N80*3)/(2*COUNT(E80:J80)+3),1)) | P80: =IF(B80="","",IF(O80="","KXL",IF(O80<4,"Kém",IF(O80<5,"Yếu",IF(O80<6,"TB",IF(O80<7,"TBK",IF(O80<8,"Khá",IF(O80<9,"Giỏi","XS")))))))) | Q80: =IF(OR(B80="",$C$6="",$I$6="",$H$119=""),"",IF(AND(N80>=3,O80>=5),"ĐẠT","KĐẠT"))
A81: =IF(B81="","",SUBTOTAL(3,$B$12:B81)) | C81: =IF(B81="","",IF(ISNA(VLOOKUP($B81,'DANH SÁCH LỚP'!$B$2:$D$966,2,FALSE))=TRUE,"",VLOOKUP($B81,'DANH SÁCH LỚP'!$B$2:$D$966,2,FALSE))) | D81: =IF(C81="","",IF(ISNA(VLOOKUP($B81,'DANH SÁCH LỚP'!$B$2:$D$966,3,FALSE))=TRUE,"",VLOOKUP($B81,'DANH SÁCH LỚP'!$B$2:$D$966,3,FALSE))) | K81: =IF(OR(B81="",$C$6="",$I$6="",$H$119=""),"",IF((COUNT(E81:J81))=0,0,ROUND(SUM(E81:J81)/COUNT(E81:J81),1))) | M81: =IF(OR(B81="",$C$6="",$I$6="",$H$119=""),"",IF(OR(K81<5,L81/($I$6)>0.2,COUNT(E81:J81)<$M$7),"Cấm thi","")) | O81: =IF(OR(B81="",$C$6="",$I$6="",$H$119=""),"",ROUND((SUM(E81:J81)*2+N81*3)/(2*COUNT(E81:J81)+3),1)) | P81: =IF(B81="","",IF(O81="","KXL",IF(O81<4,"Kém",IF(O81<5,"Yếu",IF(O81<6,"TB",IF(O81<7,"TBK",IF(O81<8,"Khá",IF(O81<9,"Giỏi","XS")))))))) | Q81: =IF(OR(B81="",$C$6="",$I$6="",$H$119=""),"",IF(AND(N81>=3,O81>=5),"ĐẠT","KĐẠT"))
A82: =IF(B82="","",SUBTOTAL(3,$B$12:B82)) | C82: =IF(B82="","",IF(ISNA(VLOOKUP($B82,'DANH SÁCH LỚP'!$B$2:$D$966,2,FALSE))=TRUE,"",VLOOKUP($B82,'DANH SÁCH LỚP'!$B$2:$D$966,2,FALSE))) | D82: =IF(C82="","",IF(ISNA(VLOOKUP($B82,'DANH SÁCH LỚP'!$B$2:$D$966,3,FALSE))=TRUE,"",VLOOKUP($B82,'DANH SÁCH LỚP'!$B$2:$D$966,3,FALSE))) | K82: =IF(OR(B82="",$C$6="",$I$6="",$H$119=""),"",IF((COUNT(E82:J82))=0,0,ROUND(SUM(E82:J82)/COUNT(E82:J82),1))) | M82: =IF(OR(B82="",$C$6="",$I$6="",$H$119=""),"",IF(OR(K82<5,L82/($I$6)>0.2,COUNT(E82:J82)<$M$7),"Cấm thi","")) | O82: =IF(OR(B82="",$C$6="",$I$6="",$H$119=""),"",ROUND((SUM(E82:J82)*2+N82*3)/(2*COUNT(E82:J82)+3),1)) | P82: =IF(B82="","",IF(O82="","KXL",IF(O82<4,"Kém",IF(O82<5,"Yếu",IF(O82<6,"TB",IF(O82<7,"TBK",IF(O82<8,"Khá",IF(O82<9,"Giỏi","XS")))))))) | Q82: =IF(OR(B82="",$C$6="",$I$6="",$H$119=""),"",IF(AND(N82>=3,O82>=5),"ĐẠT","KĐẠT"))
A83: =IF(B83="","",SUBTOTAL(3,$B$12:B83)) | C83: =IF(B83="","",IF(ISNA(VLOOKUP($B83,'DANH SÁCH LỚP'!$B$2:$D$966,2,FALSE))=TRUE,"",VLOOKUP($B83,'DANH SÁCH LỚP'!$B$2:$D$966,2,FALSE))) | D83: =IF(C83="","",IF(ISNA(VLOOKUP($B83,'DANH SÁCH LỚP'!$B$2:$D$966,3,FALSE))=TRUE,"",VLOOKUP($B83,'DANH SÁCH LỚP'!$B$2:$D$966,3,FALSE))) | K83: =IF(OR(B83="",$C$6="",$I$6="",$H$119=""),"",IF((COUNT(E83:J83))=0,0,ROUND(SUM(E83:J83)/COUNT(E83:J83),1))) | M83: =IF(OR(B83="",$C$6="",$I$6="",$H$119=""),"",IF(OR(K83<5,L83/($I$6)>0.2,COUNT(E83:J83)<$M$7),"Cấm thi","")) | O83: =IF(OR(B83="",$C$6="",$I$6="",$H$119=""),"",ROUND((SUM(E83:J83)*2+N83*3)/(2*COUNT(E83:J83)+3),1)) | P83: =IF(B83="","",IF(O83="","KXL",IF(O83<4,"Kém",IF(O83<5,"Yếu",IF(O83<6,"TB",IF(O83<7,"TBK",IF(O83<8,"Khá",IF(O83<9,"Giỏi","XS")))))))) | Q83: =IF(OR(B83="",$C$6="",$I$6="",$H$119=""),"",IF(AND(N83>=3,O83>=5),"ĐẠT","KĐẠT"))
A84: =IF(B84="","",SUBTOTAL(3,$B$12:B84)) | C84: =IF(B84="","",IF(ISNA(VLOOKUP($B84,'DANH SÁCH LỚP'!$B$2:$D$966,2,FALSE))=TRUE,"",VLOOKUP($B84,'DANH SÁCH LỚP'!$B$2:$D$966,2,FALSE))) | D84: =IF(C84="","",IF(ISNA(VLOOKUP($B84,'DANH SÁCH LỚP'!$B$2:$D$966,3,FALSE))=TRUE,"",VLOOKUP($B84,'DANH SÁCH LỚP'!$B$2:$D$966,3,FALSE))) | K84: =IF(OR(B84="",$C$6="",$I$6="",$H$119=""),"",IF((COUNT(E84:J84))=0,0,ROUND(SUM(E84:J84)/COUNT(E84:J84),1))) | M84: =IF(OR(B84="",$C$6="",$I$6="",$H$119=""),"",IF(OR(K84<5,L84/($I$6)>0.2,COUNT(E84:J84)<$M$7),"Cấm thi","")) | O84: =IF(OR(B84="",$C$6="",$I$6="",$H$119=""),"",ROUND((SUM(E84:J84)*2+N84*3)/(2*COUNT(E84:J84)+3),1)) | P84: =IF(B84="","",IF(O84="","KXL",IF(O84<4,"Kém",IF(O84<5,"Yếu",IF(O84<6,"TB",IF(O84<7,"TBK",IF(O84<8,"Khá",IF(O84<9,"Giỏi","XS")))))))) | Q84: =IF(OR(B84="",$C$6="",$I$6="",$H$119=""),"",IF(AND(N84>=3,O84>=5),"ĐẠT","KĐẠT"))
A85: =IF(B85="","",SUBTOTAL(3,$B$12:B85)) | C85: =IF(B85="","",IF(ISNA(VLOOKUP($B85,'DANH SÁCH LỚP'!$B$2:$D$966,2,FALSE))=TRUE,"",VLOOKUP($B85,'DANH SÁCH LỚP'!$B$2:$D$966,2,FALSE))) | D85: =IF(C85="","",IF(ISNA(VLOOKUP($B85,'DANH SÁCH LỚP'!$B$2:$D$966,3,FALSE))=TRUE,"",VLOOKUP($B85,'DANH SÁCH LỚP'!$B$2:$D$966,3,FALSE))) | K85: =IF(OR(B85="",$C$6="",$I$6="",$H$119=""),"",IF((COUNT(E85:J85))=0,0,ROUND(SUM(E85:J85)/COUNT(E85:J85),1))) | M85: =IF(OR(B85="",$C$6="",$I$6="",$H$119=""),"",IF(OR(K85<5,L85/($I$6)>0.2,COUNT(E85:J85)<$M$7),"Cấm thi","")) | O85: =IF(OR(B85="",$C$6="",$I$6="",$H$119=""),"",ROUND((SUM(E85:J85)*2+N85*3)/(2*COUNT(E85:J85)+3),1)) | P85: =IF(B85="","",IF(O85="","KXL",IF(O85<4,"Kém",IF(O85<5,"Yếu",IF(O85<6,"TB",IF(O85<7,"TBK",IF(O85<8,"Khá",IF(O85<9,"Giỏi","XS")))))))) | Q85: =IF(OR(B85="",$C$6="",$I$6="",$H$119=""),"",IF(AND(N85>=3,O85>=5),"ĐẠT","KĐẠT"))
A86: =IF(B86="","",SUBTOTAL(3,$B$12:B86)) | C86: =IF(B86="","",IF(ISNA(VLOOKUP($B86,'DANH SÁCH LỚP'!$B$2:$D$966,2,FALSE))=TRUE,"",VLOOKUP($B86,'DANH SÁCH LỚP'!$B$2:$D$966,2,FALSE))) | D86: =IF(C86="","",IF(ISNA(VLOOKUP($B86,'DANH SÁCH LỚP'!$B$2:$D$966,3,FALSE))=TRUE,"",VLOOKUP($B86,'DANH SÁCH LỚP'!$B$2:$D$966,3,FALSE))) | K86: =IF(OR(B86="",$C$6="",$I$6="",$H$119=""),"",IF((COUNT(E86:J86))=0,0,ROUND(SUM(E86:J86)/COUNT(E86:J86),1))) | M86: =IF(OR(B86="",$C$6="",$I$6="",$H$119=""),"",IF(OR(K86<5,L86/($I$6)>0.2,COUNT(E86:J86)<$M$7),"Cấm thi","")) | O86: =IF(OR(B86="",$C$6="",$I$6="",$H$119=""),"",ROUND((SUM(E86:J86)*2+N86*3)/(2*COUNT(E86:J86)+3),1)) | P86: =IF(B86="","",IF(O86="","KXL",IF(O86<4,"Kém",IF(O86<5,"Yếu",IF(O86<6,"TB",IF(O86<7,"TBK",IF(O86<8,"Khá",IF(O86<9,"Giỏi","XS")))))))) | Q86: =IF(OR(B86="",$C$6="",$I$6="",$H$119=""),"",IF(AND(N86>=3,O86>=5),"ĐẠT","KĐẠT"))
... A101: =IF(B101="","",SUBTOTAL(3,$B$12:B101)) | C101: =IF(B101="","",IF(ISNA(VLOOKUP($B101,'DANH SÁCH LỚP'!$B$2:$D$966,2,FALSE))=TRUE,"",VLOOKUP($B101,'DANH SÁCH LỚP'!$B$2:$D$966,2,FALSE))) | D101: =IF(C101="","",IF(ISNA(VLOOKUP($B101,'DANH SÁCH LỚP'!$B$2:$D$966,3,FALSE))=TRUE,"",VLOOKUP($B101,'DANH SÁCH LỚP'!$B$2:$D$966,3,FALSE))) | K101: =IF(OR(B101="",$C$6="",$I$6="",$H$119=""),"",IF((COUNT(E101:J101))=0,0,ROUND(SUM(E101:J101)/COUNT(E101:J101),1))) | M101: =IF(OR(B101="",$C$6="",$I$6="",$H$119=""),"",IF(OR(K101<5,L101/($I$6)>0.2,COUNT(E101:J101)<$M$7),"Cấm thi","")) | O101: =IF(OR(B101="",$C$6="",$I$6="",$H$119=""),"",ROUND((SUM(E101:J101)*2+N101*3)/(2*COUNT(E101:J101)+3),1)) | P101: =IF(B101="","",IF(O101="","KXL",IF(O101<4,"Kém",IF(O101<5,"Yếu",IF(O101<6,"TB",IF(O101<7,"TBK",IF(O101<8,"Khá",IF(O101<9,"Giỏi","XS")))))))) | Q101: =IF(OR(B101="",$C$6="",$I$6="",$H$119=""),"",IF(AND(N101>=3,O101>=5),"ĐẠT","KĐẠT"))
A102: Yêu cầu : Khoa niêm yết cho học sinh, lưu Giáo vụ Khoa và nộp bản chính cho PhòngTS-Đào tạo-GTVL (kèm file này).
B103: ="Tổng danh sách có" -> Tổng danh sách có | E103: =": "&IF(MAX($A$12:$A$101)=1,0,MAX($A$12:$A$101))&" SV" -> : 63 SV
B104: ="Tổng số SV có điểm Xuất sắc từ 9 đ đến 10 đ" -> Tổng số SV có điểm Xuất sắc từ 9 đ đến 10 đ | E104: =": "&COUNTIF($P$12:$P$101,"XS")&" SV" -> : 2 SV | G104: ="("&IF(B12="",0,ROUND(COUNTIF($P$12:$P$101,"XS")*100/MAX($A$12:$A$101),2))&"%" &")" -> (3.17%) | I104: ="Tổng số SV có điểm >= 5 đ : "&COUNTIF(O12:O101,">=5")&" SV"&" ("&IF(B12="",0,ROUND(COUNTIF(O12:O101,">=5")*100/MAX($A$12:$A$101),2))&"%" &")" -> Tổng số SV có điểm >= 5 đ : 36 SV (57.14%)
B105: ="Tổng số SV có điểm Giỏi từ 8 đ đến <9 đ" -> Tổng số SV có điểm Giỏi từ 8 đ đến <9 đ | E105: =": "&COUNTIF($P$12:$P$101,"Giỏi")&" SV" -> : 3 SV | G105: ="("&IF(B12="",0,ROUND(COUNTIF($P$12:$P$101,"Giỏi")*100/MAX($A$12:$A$101),2))&"%" &")" -> (4.76%)
B106: ="Tổng số SV có điểm Khá từ 7 đ đến <8 đ" -> Tổng số SV có điểm Khá từ 7 đ đến <8 đ | E106: =": "&COUNTIF($P$12:$P$101,"Khá")&" SV" -> : 5 SV | G106: ="("&IF(B12="",0,ROUND(COUNTIF($P$12:$P$101,"Khá")*100/MAX($A$12:$A$101),2))&"%" &")" -> (7.94%)
B107: ="Tổng số SV có điểm Trung bình khá từ 6 đ đến <7 đ" -> Tổng số SV có điểm Trung bình khá từ 6 đ đến <7 đ | E107: =": "&COUNTIF($P$12:$P$101,"TBK")&" SV" -> : 16 SV | G107: ="("&IF(B12="",0,ROUND(COUNTIF($P$12:$P$101,"TBK")*100/MAX($A$12:$A$101),2))&"%" &")" -> (25.4%)
...

Sheet TH TCN
A1: UBND THÀNH PHỐ HỒ CHÍ MINH | E1: CỘNG HÒA XÃ HỘI CHỦ NGHĨA VIỆT NAM
A2: TRƯỜNG CAO ĐẲNG KỸ THUẬT LÝ TỰ TRỌNG TP. HỒ CHÍ MINH | E2: Độc lập – Tự do – Hạnh phúc
A3: ‾‾‾‾‾‾‾‾‾‾‾‾‾‾‾‾‾‾‾‾‾‾‾‾‾‾‾‾‾‾‾‾‾‾‾‾‾‾‾‾
A4: BẢNG ĐIỂM MÔ ĐUN THỰC HÀNH
A5: =IF(OR(B12="",C6="",I6="",H119=""),"Số liệu chỉ hiển thị khi thông tin Tên Mô Đun, số tiết, số cột KT tối thiểu, Tên GV đã được điền đầy đủ","") -> Số liệu chỉ hiển thị khi thông tin Tên Mô Đun, số tiết, số cột KT tối thiểu, Tên GV đã được điền đầy đủ
B6: Tên Mô-đun | G6: Số tiết: | J6: Lớp: | K6: =IF(ISNA(VLOOKUP($B12,'DANH SÁCH LỚP'!$B$2:$F$966,5,FALSE))=TRUE,"",VLOOKUP($B12,'DANH SÁCH LỚP'!$B$2:$F$966,5,FALSE)) | M6: Số cột kiểm tra tối thiểu
C7: HỌC KỲ: | D7: I | E7: NĂM HỌC: 2015 - 2016
A8: TT | B8: MSHS | C8: Họ tên học sinh | E8: Điểm kiểm tra định kỳ (Hệ số 2) | K8: Điểm TB | L8: Số tiết vắng | M8: Xét điều kiện dự thi | N8: Điểm kiểm tra KT Mô đun (Hệ số 3) | O8: Điểm TK Mô đun | P8: XL lần I | Q8: Đánh Giá
A12: =IF(B12="","",SUBTOTAL(3,$B$12:B12)) | C12: =IF(B12="","",IF(ISNA(VLOOKUP($B12,'DANH SÁCH LỚP'!$B$2:$D$966,2,FALSE))=TRUE,"",VLOOKUP($B12,'DANH SÁCH LỚP'!$B$2:$D$966,2,FALSE))) | D12: =IF(C12="","",IF(ISNA(VLOOKUP($B12,'DANH SÁCH LỚP'!$B$2:$D$966,3,FALSE))=TRUE,"",VLOOKUP($B12,'DANH SÁCH LỚP'!$B$2:$D$966,3,FALSE))) | K12: =IF(OR(B12="",$C$6="",$I$6="",$H$119=""),"",IF((COUNT(E12:J12))=0,0,ROUND(SUM(E12:J12)/COUNT(E12:J12),1))) | M12: =IF(OR(B12="",$C$6="",$I$6="",$H$119=""),"",IF(OR(K12<5,L12/($I$6)>0.15,COUNT(E12:J12)<$M$7),"Cấm thi","")) | O12: =IF(OR(B12="",$C$6="",$I$6="",$H$119=""),"",ROUND((SUM(E12:J12)*2+N12*3)/(2*COUNT(E12:J12)+3),1)) | P12: =IF(B12="","",IF(O12="","KXL",IF(O12<4,"Kém",IF(O12<5,"Yếu",IF(O12<6,"TB",IF(O12<7,"TBK",IF(O12<8,"Khá",IF(O12<9,"Giỏi","XS")))))))) | Q12: =IF(OR(B12="",$C$6="",$I$6="",$H$119=""),"",IF(AND(N12>=3,O12>=5),"ĐẠT","KĐẠT"))
A13: =IF(B13="","",SUBTOTAL(3,$B$12:B13)) | C13: =IF(B13="","",IF(ISNA(VLOOKUP($B13,'DANH SÁCH LỚP'!$B$2:$D$966,2,FALSE))=TRUE,"",VLOOKUP($B13,'DANH SÁCH LỚP'!$B$2:$D$966,2,FALSE))) | D13: =IF(C13="","",IF(ISNA(VLOOKUP($B13,'DANH SÁCH LỚP'!$B$2:$D$966,3,FALSE))=TRUE,"",VLOOKUP($B13,'DANH SÁCH LỚP'!$B$2:$D$966,3,FALSE))) | K13: =IF(OR(B13="",$C$6="",$I$6="",$H$119=""),"",IF((COUNT(E13:J13))=0,0,ROUND(SUM(E13:J13)/COUNT(E13:J13),1))) | M13: =IF(OR(B13="",$C$6="",$I$6="",$H$119=""),"",IF(OR(K13<5,L13/($I$6)>0.15,COUNT(E13:J13)<$M$7),"Cấm thi","")) | O13: =IF(OR(B13="",$C$6="",$I$6="",$H$119=""),"",ROUND((SUM(E13:J13)*2+N13*3)/(2*COUNT(E13:J13)+3),1)) | P13: =IF(B13="","",IF(O13="","KXL",IF(O13<4,"Kém",IF(O13<5,"Yếu",IF(O13<6,"TB",IF(O13<7,"TBK",IF(O13<8,"Khá",IF(O13<9,"Giỏi","XS")))))))) | Q13: =IF(OR(B13="",$C$6="",$I$6="",$H$119=""),"",IF(AND(N13>=3,O13>=5),"ĐẠT","KĐẠT"))
A14: =IF(B14="","",SUBTOTAL(3,$B$12:B14)) | C14: =IF(B14="","",IF(ISNA(VLOOKUP($B14,'DANH SÁCH LỚP'!$B$2:$D$966,2,FALSE))=TRUE,"",VLOOKUP($B14,'DANH SÁCH LỚP'!$B$2:$D$966,2,FALSE))) | D14: =IF(C14="","",IF(ISNA(VLOOKUP($B14,'DANH SÁCH LỚP'!$B$2:$D$966,3,FALSE))=TRUE,"",VLOOKUP($B14,'DANH SÁCH LỚP'!$B$2:$D$966,3,FALSE))) | K14: =IF(OR(B14="",$C$6="",$I$6="",$H$119=""),"",IF((COUNT(E14:J14))=0,0,ROUND(SUM(E14:J14)/COUNT(E14:J14),1))) | M14: =IF(OR(B14="",$C$6="",$I$6="",$H$119=""),"",IF(OR(K14<5,L14/($I$6)>0.15,COUNT(E14:J14)<$M$7),"Cấm thi","")) | O14: =IF(OR(B14="",$C$6="",$I$6="",$H$119=""),"",ROUND((SUM(E14:J14)*2+N14*3)/(2*COUNT(E14:J14)+3),1)) | P14: =IF(B14="","",IF(O14="","KXL",IF(O14<4,"Kém",IF(O14<5,"Yếu",IF(O14<6,"TB",IF(O14<7,"TBK",IF(O14<8,"Khá",IF(O14<9,"Giỏi","XS")))))))) | Q14: =IF(OR(B14="",$C$6="",$I$6="",$H$119=""),"",IF(AND(N14>=3,O14>=5),"ĐẠT","KĐẠT"))
A15: =IF(B15="","",SUBTOTAL(3,$B$12:B15)) | C15: =IF(B15="","",IF(ISNA(VLOOKUP($B15,'DANH SÁCH LỚP'!$B$2:$D$966,2,FALSE))=TRUE,"",VLOOKUP($B15,'DANH SÁCH LỚP'!$B$2:$D$966,2,FALSE))) | D15: =IF(C15="","",IF(ISNA(VLOOKUP($B15,'DANH SÁCH LỚP'!$B$2:$D$966,3,FALSE))=TRUE,"",VLOOKUP($B15,'DANH SÁCH LỚP'!$B$2:$D$966,3,FALSE))) | K15: =IF(OR(B15="",$C$6="",$I$6="",$H$119=""),"",IF((COUNT(E15:J15))=0,0,ROUND(SUM(E15:J15)/COUNT(E15:J15),1))) | M15: =IF(OR(B15="",$C$6="",$I$6="",$H$119=""),"",IF(OR(K15<5,L15/($I$6)>0.15,COUNT(E15:J15)<$M$7),"Cấm thi","")) | O15: =IF(OR(B15="",$C$6="",$I$6="",$H$119=""),"",ROUND((SUM(E15:J15)*2+N15*3)/(2*COUNT(E15:J15)+3),1)) | P15: =IF(B15="","",IF(O15="","KXL",IF(O15<4,"Kém",IF(O15<5,"Yếu",IF(O15<6,"TB",IF(O15<7,"TBK",IF(O15<8,"Khá",IF(O15<9,"Giỏi","XS")))))))) | Q15: =IF(OR(B15="",$C$6="",$I$6="",$H$119=""),"",IF(AND(N15>=3,O15>=5),"ĐẠT","KĐẠT"))
A16: =IF(B16="","",SUBTOTAL(3,$B$12:B16)) | C16: =IF(B16="","",IF(ISNA(VLOOKUP($B16,'DANH SÁCH LỚP'!$B$2:$D$966,2,FALSE))=TRUE,"",VLOOKUP($B16,'DANH SÁCH LỚP'!$B$2:$D$966,2,FALSE))) | D16: =IF(C16="","",IF(ISNA(VLOOKUP($B16,'DANH SÁCH LỚP'!$B$2:$D$966,3,FALSE))=TRUE,"",VLOOKUP($B16,'DANH SÁCH LỚP'!$B$2:$D$966,3,FALSE))) | K16: =IF(OR(B16="",$C$6="",$I$6="",$H$119=""),"",IF((COUNT(E16:J16))=0,0,ROUND(SUM(E16:J16)/COUNT(E16:J16),1))) | M16: =IF(OR(B16="",$C$6="",$I$6="",$H$119=""),"",IF(OR(K16<5,L16/($I$6)>0.15,COUNT(E16:J16)<$M$7),"Cấm thi","")) | O16: =IF(OR(B16="",$C$6="",$I$6="",$H$119=""),"",ROUND((SUM(E16:J16)*2+N16*3)/(2*COUNT(E16:J16)+3),1)) | P16: =IF(B16="","",IF(O16="","KXL",IF(O16<4,"Kém",IF(O16<5,"Yếu",IF(O16<6,"TB",IF(O16<7,"TBK",IF(O16<8,"Khá",IF(O16<9,"Giỏi","XS")))))))) | Q16: =IF(OR(B16="",$C$6="",$I$6="",$H$119=""),"",IF(AND(N16>=3,O16>=5),"ĐẠT","KĐẠT"))
A17: =IF(B17="","",SUBTOTAL(3,$B$12:B17)) | C17: =IF(B17="","",IF(ISNA(VLOOKUP($B17,'DANH SÁCH LỚP'!$B$2:$D$966,2,FALSE))=TRUE,"",VLOOKUP($B17,'DANH SÁCH LỚP'!$B$2:$D$966,2,FALSE))) | D17: =IF(C17="","",IF(ISNA(VLOOKUP($B17,'DANH SÁCH LỚP'!$B$2:$D$966,3,FALSE))=TRUE,"",VLOOKUP($B17,'DANH SÁCH LỚP'!$B$2:$D$966,3,FALSE))) | K17: =IF(OR(B17="",$C$6="",$I$6="",$H$119=""),"",IF((COUNT(E17:J17))=0,0,ROUND(SUM(E17:J17)/COUNT(E17:J17),1))) | M17: =IF(OR(B17="",$C$6="",$I$6="",$H$119=""),"",IF(OR(K17<5,L17/($I$6)>0.15,COUNT(E17:J17)<$M$7),"Cấm thi","")) | O17: =IF(OR(B17="",$C$6="",$I$6="",$H$119=""),"",ROUND((SUM(E17:J17)*2+N17*3)/(2*COUNT(E17:J17)+3),1)) | P17: =IF(B17="","",IF(O17="","KXL",IF(O17<4,"Kém",IF(O17<5,"Yếu",IF(O17<6,"TB",IF(O17<7,"TBK",IF(O17<8,"Khá",IF(O17<9,"Giỏi","XS")))))))) | Q17: =IF(OR(B17="",$C$6="",$I$6="",$H$119=""),"",IF(AND(N17>=3,O17>=5),"ĐẠT","KĐẠT"))
A18: =IF(B18="","",SUBTOTAL(3,$B$12:B18)) | C18: =IF(B18="","",IF(ISNA(VLOOKUP($B18,'DANH SÁCH LỚP'!$B$2:$D$966,2,FALSE))=TRUE,"",VLOOKUP($B18,'DANH SÁCH LỚP'!$B$2:$D$966,2,FALSE))) | D18: =IF(C18="","",IF(ISNA(VLOOKUP($B18,'DANH SÁCH LỚP'!$B$2:$D$966,3,FALSE))=TRUE,"",VLOOKUP($B18,'DANH SÁCH LỚP'!$B$2:$D$966,3,FALSE))) | K18: =IF(OR(B18="",$C$6="",$I$6="",$H$119=""),"",IF((COUNT(E18:J18))=0,0,ROUND(SUM(E18:J18)/COUNT(E18:J18),1))) | M18: =IF(OR(B18="",$C$6="",$I$6="",$H$119=""),"",IF(OR(K18<5,L18/($I$6)>0.15,COUNT(E18:J18)<$M$7),"Cấm thi","")) | O18: =IF(OR(B18="",$C$6="",$I$6="",$H$119=""),"",ROUND((SUM(E18:J18)*2+N18*3)/(2*COUNT(E18:J18)+3),1)) | P18: =IF(B18="","",IF(O18="","KXL",IF(O18<4,"Kém",IF(O18<5,"Yếu",IF(O18<6,"TB",IF(O18<7,"TBK",IF(O18<8,"Khá",IF(O18<9,"Giỏi","XS")))))))) | Q18: =IF(OR(B18="",$C$6="",$I$6="",$H$119=""),"",IF(AND(N18>=3,O18>=5),"ĐẠT","KĐẠT"))
A19: =IF(B19="","",SUBTOTAL(3,$B$12:B19)) | C19: =IF(B19="","",IF(ISNA(VLOOKUP($B19,'DANH SÁCH LỚP'!$B$2:$D$966,2,FALSE))=TRUE,"",VLOOKUP($B19,'DANH SÁCH LỚP'!$B$2:$D$966,2,FALSE))) | D19: =IF(C19="","",IF(ISNA(VLOOKUP($B19,'DANH SÁCH LỚP'!$B$2:$D$966,3,FALSE))=TRUE,"",VLOOKUP($B19,'DANH SÁCH LỚP'!$B$2:$D$966,3,FALSE))) | K19: =IF(OR(B19="",$C$6="",$I$6="",$H$119=""),"",IF((COUNT(E19:J19))=0,0,ROUND(SUM(E19:J19)/COUNT(E19:J19),1))) | M19: =IF(OR(B19="",$C$6="",$I$6="",$H$119=""),"",IF(OR(K19<5,L19/($I$6)>0.15,COUNT(E19:J19)<$M$7),"Cấm thi","")) | O19: =IF(OR(B19="",$C$6="",$I$6="",$H$119=""),"",ROUND((SUM(E19:J19)*2+N19*3)/(2*COUNT(E19:J19)+3),1)) | P19: =IF(B19="","",IF(O19="","KXL",IF(O19<4,"Kém",IF(O19<5,"Yếu",IF(O19<6,"TB",IF(O19<7,"TBK",IF(O19<8,"Khá",IF(O19<9,"Giỏi","XS")))))))) | Q19: =IF(OR(B19="",$C$6="",$I$6="",$H$119=""),"",IF(AND(N19>=3,O19>=5),"ĐẠT","KĐẠT"))
A20: =IF(B20="","",SUBTOTAL(3,$B$12:B20)) | C20: =IF(B20="","",IF(ISNA(VLOOKUP($B20,'DANH SÁCH LỚP'!$B$2:$D$966,2,FALSE))=TRUE,"",VLOOKUP($B20,'DANH SÁCH LỚP'!$B$2:$D$966,2,FALSE))) | D20: =IF(C20="","",IF(ISNA(VLOOKUP($B20,'DANH SÁCH LỚP'!$B$2:$D$966,3,FALSE))=TRUE,"",VLOOKUP($B20,'DANH SÁCH LỚP'!$B$2:$D$966,3,FALSE))) | K20: =IF(OR(B20="",$C$6="",$I$6="",$H$119=""),"",IF((COUNT(E20:J20))=0,0,ROUND(SUM(E20:J20)/COUNT(E20:J20),1))) | M20: =IF(OR(B20="",$C$6="",$I$6="",$H$119=""),"",IF(OR(K20<5,L20/($I$6)>0.15,COUNT(E20:J20)<$M$7),"Cấm thi","")) | O20: =IF(OR(B20="",$C$6="",$I$6="",$H$119=""),"",ROUND((SUM(E20:J20)*2+N20*3)/(2*COUNT(E20:J20)+3),1)) | P20: =IF(B20="","",IF(O20="","KXL",IF(O20<4,"Kém",IF(O20<5,"Yếu",IF(O20<6,"TB",IF(O20<7,"TBK",IF(O20<8,"Khá",IF(O20<9,"Giỏi","XS")))))))) | Q20: =IF(OR(B20="",$C$6="",$I$6="",$H$119=""),"",IF(AND(N20>=3,O20>=5),"ĐẠT","KĐẠT"))
A21: =IF(B21="","",SUBTOTAL(3,$B$12:B21)) | C21: =IF(B21="","",IF(ISNA(VLOOKUP($B21,'DANH SÁCH LỚP'!$B$2:$D$966,2,FALSE))=TRUE,"",VLOOKUP($B21,'DANH SÁCH LỚP'!$B$2:$D$966,2,FALSE))) | D21: =IF(C21="","",IF(ISNA(VLOOKUP($B21,'DANH SÁCH LỚP'!$B$2:$D$966,3,FALSE))=TRUE,"",VLOOKUP($B21,'DANH SÁCH LỚP'!$B$2:$D$966,3,FALSE))) | K21: =IF(OR(B21="",$C$6="",$I$6="",$H$119=""),"",IF((COUNT(E21:J21))=0,0,ROUND(SUM(E21:J21)/COUNT(E21:J21),1))) | M21: =IF(OR(B21="",$C$6="",$I$6="",$H$119=""),"",IF(OR(K21<5,L21/($I$6)>0.15,COUNT(E21:J21)<$M$7),"Cấm thi","")) | O21: =IF(OR(B21="",$C$6="",$I$6="",$H$119=""),"",ROUND((SUM(E21:J21)*2+N21*3)/(2*COUNT(E21:J21)+3),1)) | P21: =IF(B21="","",IF(O21="","KXL",IF(O21<4,"Kém",IF(O21<5,"Yếu",IF(O21<6,"TB",IF(O21<7,"TBK",IF(O21<8,"Khá",IF(O21<9,"Giỏi","XS")))))))) | Q21: =IF(OR(B21="",$C$6="",$I$6="",$H$119=""),"",IF(AND(N21>=3,O21>=5),"ĐẠT","KĐẠT"))
A22: =IF(B22="","",SUBTOTAL(3,$B$12:B22)) | C22: =IF(B22="","",IF(ISNA(VLOOKUP($B22,'DANH SÁCH LỚP'!$B$2:$D$966,2,FALSE))=TRUE,"",VLOOKUP($B22,'DANH SÁCH LỚP'!$B$2:$D$966,2,FALSE))) | D22: =IF(C22="","",IF(ISNA(VLOOKUP($B22,'DANH SÁCH LỚP'!$B$2:$D$966,3,FALSE))=TRUE,"",VLOOKUP($B22,'DANH SÁCH LỚP'!$B$2:$D$966,3,FALSE))) | K22: =IF(OR(B22="",$C$6="",$I$6="",$H$119=""),"",IF((COUNT(E22:J22))=0,0,ROUND(SUM(E22:J22)/COUNT(E22:J22),1))) | M22: =IF(OR(B22="",$C$6="",$I$6="",$H$119=""),"",IF(OR(K22<5,L22/($I$6)>0.15,COUNT(E22:J22)<$M$7),"Cấm thi","")) | O22: =IF(OR(B22="",$C$6="",$I$6="",$H$119=""),"",ROUND((SUM(E22:J22)*2+N22*3)/(2*COUNT(E22:J22)+3),1)) | P22: =IF(B22="","",IF(O22="","KXL",IF(O22<4,"Kém",IF(O22<5,"Yếu",IF(O22<6,"TB",IF(O22<7,"TBK",IF(O22<8,"Khá",IF(O22<9,"Giỏi","XS")))))))) | Q22: =IF(OR(B22="",$C$6="",$I$6="",$H$119=""),"",IF(AND(N22>=3,O22>=5),"ĐẠT","KĐẠT"))
A23: =IF(B23="","",SUBTOTAL(3,$B$12:B23)) | C23: =IF(B23="","",IF(ISNA(VLOOKUP($B23,'DANH SÁCH LỚP'!$B$2:$D$966,2,FALSE))=TRUE,"",VLOOKUP($B23,'DANH SÁCH LỚP'!$B$2:$D$966,2,FALSE))) | D23: =IF(C23="","",IF(ISNA(VLOOKUP($B23,'DANH SÁCH LỚP'!$B$2:$D$966,3,FALSE))=TRUE,"",VLOOKUP($B23,'DANH SÁCH LỚP'!$B$2:$D$966,3,FALSE))) | K23: =IF(OR(B23="",$C$6="",$I$6="",$H$119=""),"",IF((COUNT(E23:J23))=0,0,ROUND(SUM(E23:J23)/COUNT(E23:J23),1))) | M23: =IF(OR(B23="",$C$6="",$I$6="",$H$119=""),"",IF(OR(K23<5,L23/($I$6)>0.15,COUNT(E23:J23)<$M$7),"Cấm thi","")) | O23: =IF(OR(B23="",$C$6="",$I$6="",$H$119=""),"",ROUND((SUM(E23:J23)*2+N23*3)/(2*COUNT(E23:J23)+3),1)) | P23: =IF(B23="","",IF(O23="","KXL",IF(O23<4,"Kém",IF(O23<5,"Yếu",IF(O23<6,"TB",IF(O23<7,"TBK",IF(O23<8,"Khá",IF(O23<9,"Giỏi","XS")))))))) | Q23: =IF(OR(B23="",$C$6="",$I$6="",$H$119=""),"",IF(AND(N23>=3,O23>=5),"ĐẠT","KĐẠT"))
... A101: =IF(B101="","",SUBTOTAL(3,$B$12:B101)) | C101: =IF(B101="","",IF(ISNA(VLOOKUP($B101,'DANH SÁCH LỚP'!$B$2:$D$966,2,FALSE))=TRUE,"",VLOOKUP($B101,'DANH SÁCH LỚP'!$B$2:$D$966,2,FALSE))) | D101: =IF(C101="","",IF(ISNA(VLOOKUP($B101,'DANH SÁCH LỚP'!$B$2:$D$966,3,FALSE))=TRUE,"",VLOOKUP($B101,'DANH SÁCH LỚP'!$B$2:$D$966,3,FALSE))) | K101: =IF(OR(B101="",$C$6="",$I$6="",$H$119=""),"",IF((COUNT(E101:J101))=0,0,ROUND(SUM(E101:J101)/COUNT(E101:J101),1))) | M101: =IF(OR(B101="",$C$6="",$I$6="",$H$119=""),"",IF(OR(K101<5,L101/($I$6)>0.15,COUNT(E101:J101)<$M$7),"Cấm thi","")) | O101: =IF(OR(B101="",$C$6="",$I$6="",$H$119=""),"",ROUND((SUM(E101:J101)*2+N101*3)/(2*COUNT(E101:J101)+3),1)) | P101: =IF(B101="","",IF(O101="","KXL",IF(O101<4,"Kém",IF(O101<5,"Yếu",IF(O101<6,"TB",IF(O101<7,"TBK",IF(O101<8,"Khá",IF(O101<9,"Giỏi","XS")))))))) | Q101: =IF(OR(B101="",$C$6="",$I$6="",$H$119=""),"",IF(AND(N101>=3,O101>=5),"ĐẠT","KĐẠT"))
A102: Yêu cầu : Khoa niêm yết cho học sinh, lưu Giáo vụ Khoa và nộp bản chính cho Phòng TS-Đào tạo-GTVL (kèm file này).
B103: ="Tổng danh sách có" -> Tổng danh sách có | E103: =": "&IF(MAX($A$12:$A$101)=1,0,MAX($A$12:$A$101))&" SV" -> : 0 SV
B104: ="Tổng số SV có điểm Xuất sắc từ 9 đ đến 10 đ" -> Tổng số SV có điểm Xuất sắc từ 9 đ đến 10 đ | E104: =": "&COUNTIF($P$12:$P$101,"XS")&" SV" -> : 0 SV | G104: ="("&IF(B12="",0,ROUND(COUNTIF($P$12:$P$101,"XS")*100/MAX($A$12:$A$101),2))&"%" &")" -> (0%) | I104: ="Tổng số SV có điểm >= 5 đ : "&COUNTIF(O12:O101,">=5")&" SV"&" ("&IF(B12="",0,ROUND(COUNTIF(O12:O101,">=5")*100/MAX($A$12:$A$101),2))&"%" &")" -> Tổng số SV có điểm >= 5 đ : 0 SV (0%)
B105: ="Tổng số SV có điểm Giỏi từ 8 đ đến <9 đ" -> Tổng số SV có điểm Giỏi từ 8 đ đến <9 đ | E105: =": "&COUNTIF($P$12:$P$101,"Giỏi")&" SV" -> : 0 SV | G105: ="("&IF(B12="",0,ROUND(COUNTIF($P$12:$P$101,"Giỏi")*100/MAX($A$12:$A$101),2))&"%" &")" -> (0%)
B106: ="Tổng số SV có điểm Khá từ 7 đ đến <8 đ" -> Tổng số SV có điểm Khá từ 7 đ đến <8 đ | E106: =": "&COUNTIF($P$12:$P$101,"Khá")&" SV" -> : 0 SV | G106: ="("&IF(B12="",0,ROUND(COUNTIF($P$12:$P$101,"Khá")*100/MAX($A$12:$A$101),2))&"%" &")" -> (0%)
B107: ="Tổng số SV có điểm Trung bình khá từ 6 đ đến <7 đ" -> Tổng số SV có điểm Trung bình khá từ 6 đ đến <7 đ | E107: =": "&COUNTIF($P$12:$P$101,"TBK")&" SV" -> : 0 SV | G107: ="("&IF(B12="",0,ROUND(COUNTIF($P$12:$P$101,"TBK")*100/MAX($A$12:$A$101),2))&"%" &")" -> (0%)
B108: ="Tổng số SV có điểm Trung bình từ 5 đ đến <6 đ" -> Tổng số SV có điểm Trung bình từ 5 đ đến <6 đ | E108: =": "&COUNTIF($P$12:$P$101,"TB")&" SV" -> : 0 SV | G108: ="("&IF(B12="",0,ROUND(COUNTIF($P$12:$P$101,"TB")*100/MAX($A$12:$A$101),2))&"%" &")" -> (0%) | I108: ="Tổng số SV có điểm < 5 đ : "&COUNTIF(O12:O101,"<5")&" SV"&" ("&IF(B12="",0,ROUND(COUNTIF(O12:O101,"<5")*100/MAX($A$12:$A$101),2))&"%" &")" -> Tổng số SV có điểm < 5 đ : 0 SV (0%)
B109: ="Tổng số SV có điểm Yếu từ 4 đ đến <5 đ" -> Tổng số SV có điểm Yếu từ 4 đ đến <5 đ | E109: =": "&COUNTIF($P$12:$P$101,"Yếu")&" SV" -> : 0 SV | G109: ="("&IF(B12="",0,ROUND(COUNTIF($P$12:$P$101,"Yếu")*100/MAX($A$12:$A$101),2))&"%"&")" -> (0%)
B110: ="Tổng số SV có điểm Kém dưới 4 đ" -> Tổng số SV có điểm Kém dưới 4 đ | E110: =": "&COUNTIF($P$12:$P$101,"Kém")&" SV" -> : 0 SV | G110: ="("&IF(B12="",0,ROUND(COUNTIF($P$12:$P$101,"Kém")*100/MAX($A$12:$A$101),2))&"%"&")" -> (0%)
B111: ="Tổng số SV không xếp loại vì chưa đủ điều kiện" -> Tổng số SV không xếp loại vì chưa đủ điều kiện | E111: =": "&COUNTIF($P$12:$P$101,"KXL")&" SV" -> : 0 SV | G111: ="("&IF(B12="",0,ROUND(COUNTIF($P$12:$P$101,"KXL")*100/MAX($A$12:$A$101),2))&"%"&")" -> (0%)
A113: TRƯỞNG KHOA | D113: TRƯỞNG BỘ MÔN | H113: GIÁO VIÊN GIẢNG DẠY
